BEGIN:VCALENDAR
METHOD:PUBLISH
VERSION:2.0
CALSCALE:GREGORIAN
PRODID:-//NONSGML WPForms//NONSGML Sugar Calendar Feeds v3.11.0//EN
X-WR-CALNAME:Werksessie Maritiem District - Samen werken aan een frisse 
 start
X-WR-CALDESC:010 HOME
X-WR-TIMEZONE:UTC
BEGIN:VTIMEZONE
TZID:UTC
BEGIN:STANDARD
TZOFFSETFROM:+0000
TZOFFSETTO:+0000
DTSTART:20241114T070000
TZNAME:UTC
END:STANDARD
END:VTIMEZONE
BEGIN:VTIMEZONE
TZID:UTC
BEGIN:STANDARD
TZOFFSETFROM:+0000
TZOFFSETTO:+0000
DTSTART:20241114T070000
TZNAME:UTC
END:STANDARD
END:VTIMEZONE
BEGIN:VEVENT
SUMMARY:Werksessie Maritiem District - Samen werken aan een frisse start
DESCRIPTION:Beste medebewoner/ondernemer in het Maritiem District\,\n\n
 \n\n\n\n\n\n\nIn 2016 hebben we met bewoners\, ondernemers en andere bet
 rokkenen de kernwaarden\, doelgroepen en toekomstambitie van het Maritie
 m District in kaart gebracht. De stad is sindsdien veranderd. Het Mariti
 em District ook. Tijd dus om met een frisse blik te kijken naar waar we 
 nu staan én waar we naartoe willen.\n\nHoe maken we van het Maritiem Di
 strict een nog fijnere plek om te wonen\, te werken en te recreëren? We
 lke kwaliteiten kunnen we versterken\, wat missen we nog\, en hoe zorgen
  we ervoor dat meer mensen het verhaal van het Maritiem District leren k
 ennen?\n\nVanuit onze Stichting Maritiem District organiseren we deze se
 ssie onder begeleiding van Brand The Urban Agency. Tijdens deze sessie g
 aan we samen aan de slag met nieuwe ideeën en concrete kansen. Of je hi
 er nu woont\, werkt\, onderneemt of op een andere manier betrokken bent:
  jouw perspectief telt!\n\n\n\n\nWanneer?\nDonderdag 15 mei van 19.00-22
 .00u.\n\nWaar?\nIbis hotel - begane grond\n\nLaat ons a.j.b. voor 20/4 a
 .s. even weten of je erbij bent door kort Ja/Nee te antwoorden op deze m
 ail: sander@maritiemdistrict.nl
URL;VALUE=URI:https://010home.nl/events/werksessie-maritiem-district-sam
 en-werken-aan-een-frisse-start/
UID:urn:uuid:ffac8300-8ea1-498a-82f6-8f91198df534
STATUS:CONFIRMED
ORGANIZER:
DTSTAMP:20260422T113007Z
DTSTART;TZID=UTC:20250515T190000
DTEND;TZID=UTC:20250515T220000
END:VEVENT
END:VCALENDAR